BEGIN:VCALENDAR
VERSION:2.0
PRODID:-//eventon.com NONSGML v1.0//EN
BEGIN:VEVENT
UID:69e8c7189a524
DTSTAMP:20260422T210320
DTSTART:20260606T013000Z
DTEND:20260627T043000Z
LOCATION:
SUMMARY:NACC Course on Mediation: An Effective Way to Resolve Disputes
DESCRIPTION: Conflicts in both church and society often arise from seemingly incompatible needs\,  values\,  and perspectives—such as personality differences or doctrinal disagreements. While healthy conflict can foster growth and deepen commitment\,  unresolved or poorly managed conflict can lead to division\,  hurt\,  and toxicity\,  hindering both individual and collective missions. Mediation provides[..]
END:VEVENT
END:VCALENDAR