BEGIN:VCALENDAR
VERSION:2.0
PRODID:-//eventon.com NONSGML v1.0//EN
BEGIN:VEVENT
UID:69ea182467e0b
DTSTAMP:20260423T210124
DTSTART:20260314T020000Z
DTEND:20260530T050000Z
LOCATION:
SUMMARY:NACC Equipping Course in Basic Counselling Skills
DESCRIPTION: Lay counselling is the emotional and psychosocial assistance given to people in need by either staff or lay leaders who do not have a formal degree in counselling. In the church setting\,  many lay counsellors have been rendering this important service to many needy people. While many Christians have both[..]
END:VEVENT
END:VCALENDAR