BEGIN:VCALENDAR
VERSION:2.0
PRODID:-//eventon.com NONSGML v1.0//EN
BEGIN:VEVENT
UID:69e5ebdd956d8
DTSTAMP:20260420T170325
DTSTART:20260314T013000Z
DTEND:20260314T043000Z
LOCATION:
SUMMARY:Workshop on Porn and Sex Addiction: Delusion\,  Damage and Deliverance
DESCRIPTION: The internet is swarmed with pornographic materials – 500\, 000 websites and 370 million pages. Every second\,  over 30\, 000 internet users are viewing porn\,  while 68 million people search for porn materials every day. Internet porn is captivating because it is accessible\,  affordable and anonymous. With easy internet access via social[..]
END:VEVENT
END:VCALENDAR