BEGIN:VCALENDAR
VERSION:2.0
PRODID:-//eventon.com NONSGML v1.0//EN
BEGIN:VEVENT
UID:69e751292b8b7
DTSTAMP:20260421T182753
DTSTART:20201121T060000Z
DTEND:20201121T090000Z
LOCATION:
SUMMARY:Workshop on Life Stages: Childhood
DESCRIPTION: Introduction This workshop seeks to provide participants with an understanding of the important psychological and spiritual needs during the critical stage of childhood. This is viewed through the lens of four developmental stages from infancy through puberty. One of the key questions this workshop strives to address is - how[..]
END:VEVENT
END:VCALENDAR