BEGIN:VCALENDAR
VERSION:2.0
PRODID:-//eventon.com NONSGML v1.0//EN
BEGIN:VEVENT
UID:69e7514968473
DTSTAMP:20260421T182825
DTSTART:20190302T020000Z
DTEND:20190302T083000Z
LOCATION:Charis Christian Centre 62B\,  Jalan Siput Akek\,  Taman Billion\,  56000 Kuala Lumpur.
SUMMARY:Basic Counselling Skills Course (Chinese) 輔導技巧（中文）- Week 1
DESCRIPTION: 日期 Week 1 - 3rd March 2019 Week 2 - 9th March 2019 Week 3 - 23rd March 2019 Week 4 - 30th March 2019 目的 本课程属于辅导学入门，帮助学员在辅导历程上有初步认识及了解，并掌握辅导过程的基本沟通技巧同时助人自助，让学员明白教牧辅导的重要性，和提升對自我反省时認識，盼望学员能把学到的知识运用在事奉協助更多基督的肢體。
END:VEVENT
END:VCALENDAR